BEGIN:VCALENDAR
VERSION:2.0
PRODID:-//Richard Huish College - ECPv5.0.2.1//NONSGML v1.0//EN
CALSCALE:GREGORIAN
METHOD:PUBLISH
X-WR-CALNAME:Richard Huish College
X-ORIGINAL-URL:https://www.huish.ac.uk
X-WR-CALDESC:Events for Richard Huish College
BEGIN:VTIMEZONE
TZID:Europe/London
BEGIN:DAYLIGHT
TZOFFSETFROM:+0000
TZOFFSETTO:+0100
TZNAME:BST
DTSTART:20260329T010000
END:DAYLIGHT
BEGIN:STANDARD
TZOFFSETFROM:+0100
TZOFFSETTO:+0000
TZNAME:GMT
DTSTART:20261025T010000
END:STANDARD
END:VTIMEZONE
BEGIN:VEVENT
DTSTART;TZID=Europe/London:20260513T160000
DTEND;TZID=Europe/London:20260513T170000
DTSTAMP:20260420T172617
CREATED:20260420T103318Z
LAST-MODIFIED:20260420T103522Z
UID:41396-1778688000-1778691600@www.huish.ac.uk
SUMMARY:Education Apprenticeships at Huish: Application & Interview Preparation Session
DESCRIPTION:Are you interested in starting an Education Apprenticeship at Huish? \nFind out all you need to know about applying by attending one of our upcoming preparation sessions. \nIn-person: Tuesday 12th May\, 4.00pm-5.00pm at Huish\nOnline: Wednesday 13th May\, 4.00pm-5.00pm on Teams \nThe sessions will cover:\n☑️ Finding a Suitable Role\n☑️ Completing an Application\n☑️ Eligibility Criteria\n☑️ The Interview\n☑️ Starting the Apprenticeship \nRegister at https://forms.office.com/e/2DEnU418kZ \nOnce registered\, the Teams link will be sent to you. There will be a recording available if you can’t make either event\, just be sure to complete the form and leave your details. \n
URL:https://www.huish.ac.uk/event/education-apprenticeships-at-huish-application-interview-preparation-session-2/
LOCATION:Online
CATEGORIES:Admissions
ATTACH;FMTTYPE=image/jpeg:https://www.huish.ac.uk/wp-content/uploads/2026/04/RHC-May-2025-Day-1-72.jpg
END:VEVENT
END:VCALENDAR