BEGIN:VCALENDAR
VERSION:2.0
PRODID:-//Richard Huish College - ECPv5.0.2.1//NONSGML v1.0//EN
CALSCALE:GREGORIAN
METHOD:PUBLISH
X-WR-CALNAME:Richard Huish College
X-ORIGINAL-URL:https://www.huish.ac.uk
X-WR-CALDESC:Events for Richard Huish College
BEGIN:VTIMEZONE
TZID:Europe/London
BEGIN:DAYLIGHT
TZOFFSETFROM:+0000
TZOFFSETTO:+0100
TZNAME:BST
DTSTART:20260329T010000
END:DAYLIGHT
BEGIN:STANDARD
TZOFFSETFROM:+0100
TZOFFSETTO:+0000
TZNAME:GMT
DTSTART:20261025T010000
END:STANDARD
END:VTIMEZONE
BEGIN:VEVENT
DTSTART;TZID=Europe/London:20260505T183000
DTEND;TZID=Europe/London:20260505T183000
DTSTAMP:20260422T153257
CREATED:20260422T110226Z
LAST-MODIFIED:20260422T110226Z
UID:41410-1778005800-1778005800@www.huish.ac.uk
SUMMARY:Year 2 Drama Showcase
DESCRIPTION:Come and support our Year 2 drama students in their final project! \nSee the culmination of many months of hard work with a performance of devised works in the Huish Theatre. The event will combine a variety of disciplines. \nEntry is free. \n
URL:https://www.huish.ac.uk/event/year-2-drama-showcase-2026/
LOCATION:Huish Theatre
CATEGORIES:Performing Arts
ATTACH;FMTTYPE=image/jpeg:https://www.huish.ac.uk/wp-content/uploads/2026/04/Drama-poster-May-2026-minimised.jpg
END:VEVENT
END:VCALENDAR